BEGIN:VCALENDAR
VERSION:2.0
PRODID:icalendar-ruby
CALSCALE:GREGORIAN
METHOD:PUBLISH
BEGIN:VEVENT
DTSTAMP:20260423T135336Z
UID:60-968447@trinref.org
DTSTART:20260426T133000Z
DTEND:20260426T140000Z
CLASS:PUBLIC
CREATED:20260416T120136
DESCRIPTION:The Coffee Car is open for the final time this school year!\nCo
 me support our youth and help them raise some money before\nRocky Mountain
  High in July!\nSee you in the fall!\n 
LAST-MODIFIED:20260416T120136
LOCATION:
SUMMARY:The Last Coffee Cart this school year!
URL;VALUE=URI:https://www.trinref.org/events/the-last-coffee-cart-this-scho
 ol-year/2026-04-26
ATTACH;FILENAME=Coffee cart.jfif;FMTTYPE=image/jpeg:https://dq5pwpg1q8ru0.c
 loudfront.net/2026/04/16/17/01/36/78f2e398-cb2f-4f41-8ed9-1d2012019f51/Cof
 fee%20cart.jfif
END:VEVENT
END:VCALENDAR
